Workbook
Name 등급: 선행연구!$Z$7:$Z$10

Sheet 설계예산서
B2: =총괄!A1 -> <활주로 지역 배수로개선 선행연구 산출내역서> (배수로 측량포함)
C4: ○ | D4: 위 치 | E4: : 서산 공군 제20전투비행단
C6: ○ | D6: 용역내용 | E6: : 활주로 지역 배수관로 노선측량 약 = 68.5km 및 배수로 개선 선행연구
B9: 총 용 역 금 액 : | D9: =총괄!G16 -> 325798800 | I9: ="금"&NUMBERSTRING(D9,1)&"원" -> 금삼억이천오백칠십구만팔천팔백원
B10: 도 급 액 : | D10: =D9 -> 325798800 | I10: =I9 -> 금삼억이천오백칠십구만팔천팔백원
B15: 2 0 2 2 년도
A19: =B2 -> <활주로 지역 배수로개선 선행연구 산출내역서> (배수로 측량포함)
A27: 공군 제 20 전투비행단

Sheet 총괄
A1: <활주로 지역 배수로개선 선행연구 산출내역서> (배수로 측량포함)
B4: 명 칭 | C4: 규 격 | D4: 수 량 | E4: 단위 | F4: 합 계 | H4: 노 무 비 | J4: 재 료 비 | L4: 경 비 | N4: 비 고
F5: 단 가 | G5: 금 액 | H5: 단 가 | I5: 금 액 | J5: 단 가 | K5: 금 액 | L5: 단 가 | M5: 금 액
A6: 1. | B6: 측량비 | D6: 1 | E6: 식 | G6: =측량비!Q52 -> 201701000
B8: 계 | G8: =SUM(G6:G7) -> 201701000
B9: 손해배상보험 | D9: 1 | E9: 식 | G9: =손해배상보험!E21 -> 1547000
C10: ( 소계 * 10% ) | D10: 10 | E10: % | G10: =INT((G8+G9)*D10/100) -> 20324800
B11: 소계 | D11: 감 | G11: =SUM(G8:G10) -> 223572800
A12: 2 | B12: 선행연구비 | D12: 1 | E12: 식 | G12: =선행연구!B11+선행연구!B20+선행연구!B21+선행연구!B22 -> 92933435
B13: 계 | G13: =SUM(G12:G12) -> 92933435
A14: 3 | B14: 부가가치세 | C14: ( 소계 * 10% ) | D14: 10 | E14: % | G14: =INT(G13*D14/100) -> 9293343
B15: 소계 | G15: =ROUNDDOWN(SUM(G13:G14),-3) -> 102226000
A16: 3 | B16: 총계 | G16: =G11+G15 -> 325798800

Sheet 측량비
A1: 1. 측량비
A3: 품명 | B3: 지형현황측량비 | P3: 단위 | Q3: 수량/단가
A4: 가. 평판 측량 | B4: 1.구릉지 10만m2, 축척 1/500, 신규측량 기준 인원수
B5: .고급기술자 | P5: 인 | Q5: 4.25
B6: .중급기술자 | P6: 인 | Q6: 15
B7: .초급기술자 | P7: 인 | Q7: 15
B8: .초급기능사 | P8: 인 | Q8: 7
B9: .보통 인부 | P9: 인 | Q9: 7
B10: 2. 지형유형에 따른 증감계수 (K)
B11: .구릉지 | C11: 1.25 | D11: (평지1.0 / 구릉지1.25 / 산지1.30) | Q11: =C11 -> 1.25
B12: 3.축척에 따른 증감계수 (S)
B13: .1/500 | C13: 1 | D13: (1/250 : 1.6, 1/500 : 1.0, 1 /1000 : 0.65) | Q13: =C13 -> 1
B14: 4.작업량에 따른 증감계수 (P)
B15: .0.8+2/측량면적 | C15: =I15*O15 -> 869950 | E15: m2 | G15: L | H15: = | I15: 68500 | M15: B | N15: = | O15: 12.7 | Q15: =IF(C15>200000,0.9,0.8+2/(C15/10000)) -> 0.9
B16: 5.작업종류에 따른 계수 (T)
B17: .신규측량 | C17: 1 | D17: (신규측량 : 1.0 / 수정측량 : 1.25) | Q17: =C17 -> 1
B18: 6.총인원수 = 인원수*표준작업량*K*S*P*T
B19: .고급기술자 : | D19: =Q5 -> 4.25 | E19: 인 | F19: × | G19: =C15/100000 -> 8.6995 | H19: × | I19: =Q11 -> 1.25 | J19: × | K19: =Q13 -> 1 | L19: × | M19: =Q15 -> 0.9 | N19: × | O19: =Q17 -> 1 | P19: 인 | Q19: =D19*G19*I19*K19*M19*O19 -> 41.594484
B20: .중급기술자 : | D20: =Q6 -> 15 | E20: 인 | F20: × | G20: =G19 -> 8.6995 | H20: × | I20: =I19 -> 1.25 | J20: × | K20: =K19 -> 1 | L20: × | M20: =M19 -> 0.9 | N20: × | O20: =O19 -> 1 | P20: 인 | Q20: =D20*G20*I20*K20*M20*O20 -> 146.80406
B21: .초급기술자 : | D21: =Q7 -> 15 | E21: 인 | F21: × | G21: =G19 -> 8.6995 | H21: × | I21: =I19 -> 1.25 | J21: × | K21: =K19 -> 1 | L21: × | M21: =M19 -> 0.9 | N21: × | O21: =O19 -> 1 | P21: 인 | Q21: =D21*G21*I21*K21*M21*O21 -> 146.80406
B22: .초급기능사 : | D22: =Q8 -> 7 | E22: 인 | F22: × | G22: =G19 -> 8.6995 | H22: × | I22: =I19 -> 1.25 | J22: × | K22: =K19 -> 1 | L22: × | M22: =M19 -> 0.9 | N22: × | O22: =O19 -> 1 | P22: 인 | Q22: =D22*G22*I22*K22*M22*O22 -> 68.508563
B23: .보 통 인 부 : | D23: =Q9 -> 7 | E23: 인 | F23: × | G23: =G19 -> 8.6995 | H23: × | I23: =I19 -> 1.25 | J23: × | K23: =K19 -> 1 | L23: × | M23: =M19 -> 0.9 | N23: × | O23: =O19 -> 1 | P23: 인 | Q23: =D23*G23*I23*K23*M23*O23 -> 68.508563
A24: 나. 제도 | B24: 1.인원수
B25: .고급기술자 | Q25: 0
B26: .중급기술자 | Q26: 0
B27: .초급기술자 | Q27: 0
B28: 2. 증감계수
B29: .K = | C29: =Q11 -> 1.25 | Q29: =C29 -> 1.25
B30: .S= | C30: =Q13 -> 1 | Q30: =C30 -> 1
B31: .P= | C31: =Q15 -> 0.9 | Q31: =C31 -> 0.9
B32: .T= | C32: =Q17 -> 1 | Q32: =C32 -> 1
B33: 3.총인원수
B34: .고급기술자 : | D34: =Q25 -> 0 | E34: 인 | F34: × | G34: =G19 -> 8.6995 | H34: × | I34: =Q11 -> 1.25 | J34: × | K34: =Q13 -> 1 | L34: × | M34: =Q15 -> 0.9 | N34: × | O34: =Q17 -> 1 | P34: 인 | Q34: =D34*G34*I34*K34*M34*O34 -> 0
B35: .중급기술자 : | D35: =Q26 -> 0 | E35: 인 | F35: × | G35: =G19 -> 8.6995 | H35: × | I35: =I34 -> 1.25 | J35: × | K35: =K34 -> 1 | L35: × | M35: =M34 -> 0.9 | N35: × | O35: =O34 -> 1 | P35: 인 | Q35: =D35*G35*I35*K35*M35*O35 -> 0
B36: .초급기술자 : | D36: =Q27 -> 0 | E36: 인 | F36: × | G36: =G19 -> 8.6995 | H36: × | I36: =I34 -> 1.25 | J36: × | K36: =K34 -> 1 | L36: × | M36: =M34 -> 0.9 | N36: × | O36: =O34 -> 1 | P36: 인 | Q36: =D36*G36*I36*K36*M36*O36 -> 0
A37: 다. 인원 소계 | B37: .고급기술자 | P37: 인 | Q37: =ROUND(Q19+Q34,2) -> 41.59 | S37: ○ 노임단가
B38: .중급기술자 | P38: 인 | Q38: =ROUND(Q20+Q35,2) -> 146.8 | S38: [2022년도 측량기술자 임금공표]
B39: .초급기술자 | P39: 인 | Q39: =ROUND(Q21+Q36,2) -> 146.8
B40: .초급기능사 | P40: 인 | Q40: =ROUND(Q22,2) -> 68.51 | S40: 구분 | T40: 단가
B41: .보 통 인 부 | P41: 인 | Q41: =ROUND(Q23,2) -> 68.51 | S41: 고급기술자 | T41: 218088
A42: 라. 인건비 | B42: .고급기술자 : | C42: =T41 -> 218088 | P42: 원 | Q42: =INT(C42*Q37) -> 9070279 | S42: 중급기술자 | T42: 189335
B43: .중급기술자 : | C43: =T42 -> 189335 | P43: 원 | Q43: =INT(C43*Q38) -> 27794378 | S43: 초급기술자 | T43: 158319
B44: .초급기술자 : | C44: =T43 -> 158319 | P44: 원 | Q44: =INT(C44*Q39) -> 23241229 | S44: 초급기능사(측량) | T44: 142459
B45: .초급기능사 : | C45: =T44 -> 142459 | P45: 원 | Q45: =INT(C45*Q40) -> 9759866 | S45: 보통인부 | T45: 148510
B46: .보 통 인 부 : | C46: =T45 -> 148510 | P46: 원 | Q46: =INT(C46*Q41) -> 10174420
A47: 계 | Q47: =(Q42+Q43+Q44+Q45+Q46) -> 80040172
A49: 마. 제경비 | B49: .제경비 (직접노무비*110%) | P49: 원 | Q49: =INT(Q47*1.1) -> 88044189
A51: 바. 기술료 | B51: .기술료[(직접노무비+제경비)*20%] | P51: 원 | Q51: =INT((Q47+Q49)*0.2) -> 33616872
A52: 합 계 | P52: 원 | Q52: =ROUNDDOWN((Q47+Q49+Q51),-3) -> 201701000
A53: 비고 : | B53: 1. 계획된 측량면적보다 적은 면적을 측량하였을 경우 정산한다. 단, 초과면적분에 대해서는 계약금액으로 갈음한다.
B54: 2. 기타 측량을 위한 추가과업은 계약금액에 포함된 것으로 한다.
B55: 3. 사업부지 여건을 고려하여 평판측량 외 다른측량으로 시행할 수도 있으며, 그 비용은 수급인 부담으로 한다.
B56: 4. 지적경계측량이 필요할 경우 감독관과 상의하여 시행하며, 그 비용은 수급인 부담으로 한다.
B57: 비고 : 건설공사 표준품셈 토목부분 제9장 측량 (9-3 지형현황)을 적용하여 산정함.

Sheet 공종별집계표 (3)
B1: 공 종 별 집 계 표
B2: =#REF! -> #REF! | E2: [A. 활주로]
B3: 공종 | C3: 품 명 | D3: 규 격 | E3: 수 량 | F3: 단위 | G3: 재료비 | H3: 노무비 | I3: 경 비 | J3: 합 계 | K3: 비 고
B4: 1.0 | C4: 줄눈교체 | E4: 1 | F4: 식 | G4: =+#REF! -> #REF! | H4: =+#REF! -> #REF! | I4: =+#REF! -> #REF! | J4: =H4+G4+I4 -> #REF!
B5: 2.0 | C5: 단면보수 | E5: 1 | F5: 식 | G5: =+#REF! -> #REF! | H5: =+#REF! -> #REF! | I5: =+#REF! -> #REF! | J5: =H5+G5+I5 -> #REF!
B6: 3.0 | C6: 균열보수 | E6: 1 | F6: 식 | G6: =+#REF! -> #REF! | H6: =+#REF! -> #REF! | I6: =+#REF! -> #REF! | J6: =H6+G6+I6 -> #REF!
C30: 합 계 | G30: =+G4+G5+G6+G7+G8+G9+G10+G11+G12+G13+G14+G15 -> #REF! | H30: =+H4+H5+H6+H7+H8+H9+H10+H11+H12+H13+H14+H15 -> #REF! | I30: =+I4+I5+I6+I7+I8+I9+I10+I11+I12+I13+I14+I15 -> #REF! | J30: =+J4+J5+J6+J7+J8+J9+J10+J11+J12+J13+J14+J15 -> #REF!

Sheet 공종별집계표 (4)
B1: 공 종 별 집 계 표
B2: =#REF! -> #REF! | E2: [B. 유도로]
B3: 공종 | C3: 품 명 | D3: 규 격 | E3: 수 량 | F3: 단위 | G3: 재료비 | H3: 노무비 | I3: 경 비 | J3: 합 계 | K3: 비 고
B4: 1.0 | C4: 줄눈교체 | E4: 1 | F4: 식 | G4: =+#REF! -> #REF! | H4: =+#REF! -> #REF! | I4: =+#REF! -> #REF! | J4: =H4+G4+I4 -> #REF!
B5: 2.0 | C5: 단면보수 | E5: 1 | F5: 식 | G5: =+#REF! -> #REF! | H5: =+#REF! -> #REF! | I5: =+#REF! -> #REF! | J5: =H5+G5+I5 -> #REF!
B6: 3.0 | C6: 균열보수 | E6: 1 | F6: 식 | G6: =+#REF! -> #REF! | H6: =+#REF! -> #REF! | I6: =+#REF! -> #REF! | J6: =H6+G6+I6 -> #REF!
C30: 합 계 | G30: =+G4+G5+G6+G7+G8+G9+G10+G11+G12+G13+G14+G15 -> #REF! | H30: =+H4+H5+H6+H7+H8+H9+H10+H11+H12+H13+H14+H15 -> #REF! | I30: =+I4+I5+I6+I7+I8+I9+I10+I11+I12+I13+I14+I15 -> #REF! | J30: =+J4+J5+J6+J7+J8+J9+J10+J11+J12+J13+J14+J15 -> #REF!
G37: 144354698 | H37: 128764670 | I37: 2447470 | J37: =H37+G37+I37 -> 275566838

Sheet 공종별집계표 (5)
B1: 공 종 별 집 계 표
B2: =#REF! -> #REF! | E2: [C. 직각유도로(활주로)]
B3: 공종 | C3: 품 명 | D3: 규 격 | E3: 수 량 | F3: 단위 | G3: 재료비 | H3: 노무비 | I3: 경 비 | J3: 합 계 | K3: 비 고
B4: 1.0 | C4: 줄눈교체 | E4: 1 | F4: 식 | G4: =+#REF! -> #REF! | H4: =+#REF! -> #REF! | I4: =+#REF! -> #REF! | J4: =H4+G4+I4 -> #REF!
B5: 2.0 | C5: 단면보수 | E5: 1 | F5: 식 | G5: =+#REF! -> #REF! | H5: =+#REF! -> #REF! | I5: =+#REF! -> #REF! | J5: =H5+G5+I5 -> #REF!
B6: 3.0 | C6: 균열보수 | E6: 1 | F6: 식 | G6: =+#REF! -> #REF! | H6: =+#REF! -> #REF! | I6: =+#REF! -> #REF! | J6: =H6+G6+I6 -> #REF!
P11: 0
C30: 합 계 | G30: =+G4+G5+G6+G7+G8+G9+G10+G11+G12+G13+G14+G15 -> #REF! | H30: =+H4+H5+H6+H7+H8+H9+H10+H11+H12+H13+H14+H15 -> #REF! | I30: =+I4+I5+I6+I7+I8+I9+I10+I11+I12+I13+I14+I15 -> #REF! | J30: =+J4+J5+J6+J7+J8+J9+J10+J11+J12+J13+J14+J15 -> #REF!

Sheet 공종별집계표 (6)
B1: 공 종 별 집 계 표
B2: =#REF! -> #REF! | E2: [D. 직각유도로(주기장)]
B3: 공종 | C3: 품 명 | D3: 규 격 | E3: 수 량 | F3: 단위 | G3: 재료비 | H3: 노무비 | I3: 경 비 | J3: 합 계 | K3: 비 고
B4: 1.0 | C4: 줄눈교체 | E4: 1 | F4: 식 | G4: =+#REF! -> #REF! | H4: =+#REF! -> #REF! | I4: =+#REF! -> #REF! | J4: =H4+G4+I4 -> #REF!
B5: 2.0 | C5: 단면보수 | E5: 1 | F5: 식 | G5: =+#REF! -> #REF! | H5: =+#REF! -> #REF! | I5: =+#REF! -> #REF! | J5: =H5+G5+I5 -> #REF!
B6: 3.0 | C6: 균열보수 | E6: 1 | F6: 식 | G6: =+#REF! -> #REF! | H6: =+#REF! -> #REF! | I6: =+#REF! -> #REF! | J6: =H6+G6+I6 -> #REF!
C30: 합 계 | G30: =+G4+G5+G6+G7+G8+G9+G10+G11+G12+G13+G14+G15 -> #REF! | H30: =+H4+H5+H6+H7+H8+H9+H10+H11+H12+H13+H14+H15 -> #REF! | I30: =+I4+I5+I6+I7+I8+I9+I10+I11+I12+I13+I14+I15 -> #REF! | J30: =+J4+J5+J6+J7+J8+J9+J10+J11+J12+J13+J14+J15 -> #REF!
G37: 144354698 | H37: 128764670 | I37: 2447470 | J37: =H37+G37+I37 -> 275566838

Sheet 공종별집계표 (7)
B1: 공 종 별 집 계 표
B2: =#REF! -> #REF! | E2: [E. 주기장]
B3: 공종 | C3: 품 명 | D3: 규 격 | E3: 수 량 | F3: 단위 | G3: 재료비 | H3: 노무비 | I3: 경 비 | J3: 합 계 | K3: 비 고
B4: 1.0 | C4: 줄눈교체 | E4: 1 | F4: 식 | G4: =+#REF! -> #REF! | H4: =+#REF! -> #REF! | I4: =+#REF! -> #REF! | J4: =H4+G4+I4 -> #REF!
B5: 2.0 | C5: 단면보수 | E5: 1 | F5: 식 | G5: =+#REF! -> #REF! | H5: =+#REF! -> #REF! | I5: =+#REF! -> #REF! | J5: =H5+G5+I5 -> #REF!
B6: 3.0 | C6: 균열보수 | E6: 1 | F6: 식 | G6: =+#REF! -> #REF! | H6: =+#REF! -> #REF! | I6: =+#REF! -> #REF! | J6: =H6+G6+I6 -> #REF!
C30: 합 계 | G30: =+G4+G5+G6+G7+G8+G9+G10+G11+G12+G13+G14+G15 -> #REF! | H30: =+H4+H5+H6+H7+H8+H9+H10+H11+H12+H13+H14+H15 -> #REF! | I30: =+I4+I5+I6+I7+I8+I9+I10+I11+I12+I13+I14+I15 -> #REF! | J30: =+J4+J5+J6+J7+J8+J9+J10+J11+J12+J13+J14+J15 -> #REF!
G37: 144354698 | H37: 128764670 | I37: 2447470 | J37: =H37+G37+I37 -> 275566838

Sheet 공종별집계표 (8)
B1: 공 종 별 집 계 표
B2: =#REF! -> #REF! | E2: [F.자재대]
B3: 공종 | C3: 품 명 | D3: 규 격 | E3: 수 량 | F3: 단위 | G3: 재료비 | H3: 노무비 | I3: 경 비 | J3: 합 계 | K3: 비 고
B4: 1.0 | C4: 공사중시설 | E4: 1 | F4: 식 | G4: =+#REF! -> #REF! | H4: =+#REF! -> #REF! | I4: =+#REF! -> #REF! | J4: =H4+G4+I4 -> #REF!
B5: 2.0 | C5: 폐기물상차 | E5: 1 | F5: 식 | G5: =+#REF! -> #REF! | H5: =+#REF! -> #REF! | I5: =+#REF! -> #REF! | J5: =H5+G5+I5 -> #REF!
C30: 합 계 | G30: =+G4+G5+G6+G7+G8+G9+G10+G11+G12+G13+G14+G15 -> #REF! | H30: =+H4+H5+H6+H7+H8+H9+H10+H11+H12+H13+H14+H15 -> #REF! | I30: =+I4+I5+I6+I7+I8+I9+I10+I11+I12+I13+I14+I15 -> #REF! | J30: =+J4+J5+J6+J7+J8+J9+J10+J11+J12+J13+J14+J15 -> #REF!
G37: 144354698 | H37: 128764670 | I37: 2447470 | J37: =H37+G37+I37 -> 275566838

Sheet 손해배상보험
C2: 2. 손해배상보험(공제)
I3: 분석(타당성 조사, 평가, 시험) 손해배상보험요율표 (엔지니어링공제조합)
C4: 용역금액 | D4: 지형현황측량비 | E4: =측량비!Q52 -> 201701000 | S4: (단위: %)
I5: 산업별 | J5: 공제가입금액(보상한도액) | T5: 표준담보 기간(년)
J6: 5억원이하 | L6: 5억원초과 10억원이하 | N6: 10억원초과 20억원이하 | P6: 20억원초과 30억원이하 | R6: 30억원초과 50억원이하
J7: 기본요율 | K7: 가산요율 | L7: 기본요율 | M7: 가산요율 | N7: 기본요율 | O7: 가산요율 | P7: 기본요율 | Q7: 가산요율 | R7: 기본요율 | S7: 가산요율
I8: 교량
D9: 계 | E9: =SUM(E4:E8) -> 201701000 | I9: 공항
C10: (1단계 공제료) | I10: 댐
C11: 분류 | D11: 금액 | E11: 산출근거 | F11: 기본요율 | G11: 가산요율 | I11: 도로
C12: 5억원이하 | D12: =E9 -> 201701000 | E12: =D12*(F12)*0.01 -> 1224325.1 | F12: =J23 -> 0.607 | G12: =K23 -> 0.097 | I12: 에너지저장
C13: 5억원초과 10억원이하 | E13: =D13*(F13)*0.01 -> 0 | F13: =L23 -> 0.59 | G13: =M23 -> 0.094 | I13: 간척
C14: 10억원초과 20억원이하 | E14: =D14*(F14)*0.01 -> 0 | F14: =N23 -> 0.572 | G14: =O23 -> 0.093 | I14: 항만ㆍ하천
C15: 20억원초과 30억원이하 | E15: =D15*(F15)*0.01 -> 0 | F15: =P23 -> 0.554 | G15: =Q23 -> 0.088 | I15: 철도
C16: 30억원초과 50억원이하 | E16: =D16*(F16)*0.01 -> 0 | F16: =R23 -> 0.536 | G16: =S23 -> 0.085 | I16: 지하철
C17: 계 | E17: =E12+E13+E14+E15+E16 -> 1224325.1 | I17: 터널
C18: (2단계 공제료) | I18: 발전소건설
C19: 용역금액*0.16% | E19: =E9*0.16*0.01 -> 322721.6 | I19: 쓰레기소각로
C20: (합계) | I20: 폐수처리장
C21: 1단계+2단계 | E21: =ROUNDDOWN((E17+E19),-3) -> 1547000 | F21: 천원미만 절사 | I21: 하수종말처리장
I22: 상수도(정수장포함)
C23: 가입기간 산정(용역기간) | I23: 하수도 | J23: 0.607 | K23: 0.097 | L23: 0.59 | M23: 0.094 | N23: 0.572 | O23: 0.093 | P23: 0.554 | Q23: 0.088 | R23: 0.536 | S23: 0.085 | T23: 2
C24: 5개월 | D24: + 1단계 이후 1년 | E24: =C24 -> 5개월 | F24: +1년 | I24: 관람집회시설
I25: 전시시설
C26: =F10 -> 0 | I26: 공용청사
C27: 표준공사기간 | D27: 예정공사기간 | E27: 초과일수 | I27: 송전
C28: 3년 | D28: 2년 | E28: 0 | I28: 변전
I29: 공동주택
C30: 비고 : 엔지니어링산업진흥법 시행령 제42조(엔지니어링사업자의 손해배상보험, 공제가입)에 의거 산출함.

Sheet 선행연구
A2: 3. 연구비
A4: ※ 작성근거 : 기획재정부 계약예규 2장 (원가계산에 의한 예정가격 작성기준)
A5: 구분 | B5: 금액 (원) | C5: 구성비 (%) | D5: 산출내역 | X5: 비고 | Z5: □ 기재부 (별표2)"학술연구용역 인건비 기준단가 <'22년기준>
A6: 1. 인건비 | X6: • '22년 기재부 (별표2) 학술연구용역 인건비 기준단가 적용 * 1달을 22일 기준으로 하여 참여율 산정 | Z6: 등 급 | AA6: 월임금(월/원) | AB6: 비 고
A7: 책임연구원 | B7: =ROUNDUP(($D7*2)*$J7*$M7*$T7%,-1) -> 16635130 | D7: =AA7*1 -> 3327026 | I7: × | J7: 1 | K7: 인 | L7: × | M7: 5 | N7: 개월 | P7: × | Q7: 참여율 | T7: 50 | X7: 변동 : 인원, 개월수 | Z7: 책임연구원 | AA7: 3327026 | AB7: 본 인건비 기준단가는 1개월을 22일로 하여 용역 참여율 50%로 산정한 것이며, 용역 참여율을 달리하는 경우에는 기준 단가를 증감시킬 수 있다.
A8: 연구원 | B8: =ROUNDUP(($D8*2)*$J8*$M8*$T8%,-1) -> 51022380 | D8: =AA8*1 -> 2551119 | I8: × | J8: 4 | K8: 인 | L8: × | M8: 5 | N8: 개월 | P8: × | Q8: 참여율 | T8: 50 | X8: 변동 : 인원, 개월수 | Z8: 연구원 | AA8: 2551119
A9: 연구보조원 | B9: =ROUNDUP(($D9*2)*$J9*$M9*$T9%,-1) -> 8526690 | D9: =AA9*1 -> 1705337 | I9: × | J9: 1 | K9: 인 | L9: × | M9: 5 | N9: 개월 | P9: × | Q9: 참여율 | T9: 50 | X9: 변동 : 인원, 개월수 | Z9: 연구보조원 | AA9: 1705337
A10: 보조원 | B10: =($D10*2)*$J10*$M10*$T10% -> 0 | D10: =AA10 -> 1279046 | I10: × | J10: 0 | K10: 인 | L10: × | M10: 5 | N10: 개월 | P10: × | Q10: 참여율 | T10: 50 | X10: 변동 : 인원, 개월수 | Z10: 보조원 | AA10: 1279046
A11: 인건비 계 | B11: =SUM(B7:B10) -> 76184200 | Z11: □ 국내여비 - 공무원 여비 규정([별표1] 여비 지급 구분표, [별표 2] 국내 여비 지급표('20년 기준))
A12: 2. 경비 | Z12: 구 분 | AA12: 철도운임 | AB12: 선박운임 | AC12: 항공운임 | AD12: 자동차 운임 (버스) | AE12: 일비(1일당) | AF12: 숙박비(1야당) | AG12: 식비(1일당) | AH12: 비고
A13: 1) 국내여비 | B13: =ROUNDUP((M14*R14*U14)+(M15*R15*U15),-1) -> 1470000 | D13: • 1인 1일 기준액 | J13: × | K13: =SUM(R15,R14) -> 6 | M13: 명 | N13: × | O13: 6 | Q13: 회 | X13: 현장 실사, 조사여비 * 공무원 여비규정 적용 | Z13: 제1호 (대장~중령/3급 이상) | AA13: 실비(특실) | AB13: 실비(1등급) | AC13: 실비 | AD13: 실비 | AE13: 20000 | AF13: 실비 | AG13: 25000
E14: - | F14: 1호(책임연구원) | L14: : | M14: 45000 | Q14: × | R14: =SUMIF($A$7:$A$10,"책임연구원",$J$7:$J$10) -> 1 | S14: 명 | T14: × | U14: 6 | V14: 회 | Z14: 제2호 (소령 이하/4급 이하) | AA14: 실비(일반실) | AB14: 실비(2등급) | AC14: 실비 | AD14: 실비 | AE14: 20000 | AF14: 실비 (서울7만,광역시6만,기타5만) | AG14: 20000
E15: - | F15: 2호(연구원 등) | L15: : | M15: 40000 | Q15: × | R15: =SUMIF($A$7:$A$10,"연구원",$J$7:$J$10)+SUMIF($A$7:$A$10,"연구보조원",$J$7:$J$10)+SUMIF($A$7:$A$10,"보조원",$J$7:$J$10) -> 5 | S15: 명 | T15: × | U15: 6 | V15: 회 | Z15: 연료비 | AA15: 연료비 지급기준 : 여행거리(Km) * 유가 / 연비 <기준 유가 : 연비(Km/L) 휘발유(11.57), 경유(12.12), LPG(8.52>
A16: 2) 유인물비 | B16: =ROUNDUP(P16+P17,-1) -> 1370000 | D16: • 보고서( 책자 30부 + CD 2매) : | P16: 1370000 | X16: 착수, 중간, 최종보고 자료
A18: 3) 전산처리비 | B18: =ROUNDUP((I18*N18),-1) -> 1246700 | D18: • 전산소모품 : | I18: 1246700 | M18: × | N18: 1 | O18: 식 | P18: (A4용지 5BOX 포함) | X18: 보고서 준비
A19: 4) 회의비 | B19: =ROUNDUP(N19*S19,-1) -> 200000 | D19: • 회의 준비비(다과, 비품 등) : | N19: 40000 | R19: × | S19: 5 | T19: 회 | X19: 착수/30%/60%/90%/최종 검토 및 보완 회의 등
A20: 경비 계 | B20: =SUM(B13:B19) -> 4286700
A21: 3. 일반관리비 | B21: =ROUNDUP(($B$11+$B$20)*6%,-1) -> 4828260 | D21: • (인건비+경비)×6.0% | X21: 기재부 계약예규 적용 예가산정기준28조 일반관리비 등
A22: 4. 이윤 | B22: =($B$11+$B$20+$B$21)*Z22 -> 7634274.8 | D22: • (인건비+경비+일반관리비)×8.95% | Z22: 0.0895
A23: 5. 부가가치세 | B23: =ROUNDUP(($B$11+$B$20+$B$21+$B$22)*10%,-1) -> 9293350 | D23: • (인건비+경비+일반관리비+이윤)×10%
A24: 6. 총 원가 | B24: =TRUNC(SUM($B11,$B20,$B21,$B22,$B23),-1) -> 102226780 | D24: 원단위 절사 | AB24: =Z24+AA24 -> 0

Sheet 세부 산출내역
A1: * 보고서 작성 - 연구보고서 책자 : 45,000원 X 30SET =1,350,000원 - 연구보고서 CD :10,000원 X 2SET = 20,000원
A2: * 전산소모품 - HP Q6000A(검정) : 132,700원 X 2SET = 265,400원 - HP Q6001A(파랑) : 144,800원 X 2SET = 289,600원 - HP Q6002A(노랑) : 144,800원 X 2SET = 289,600원 - HP Q6003A(진홍) : 144,800원 X 2SET = 289,600원 - 복사지 : 22,500원 X 5BOX = 112,500원
A3: * 회의 준비비(1회) - 1인당 2,000원 X 20명 = 40,000원 - 40,000원/회당 × 5회 = 200,000원
